BEGIN:VCALENDAR
VERSION:2.0
PRODID:-//Gravemember//EN
BEGIN:VEVENT
UID:gravemember-20260404@gravemember.com
DTSTAMP:20260303T000000Z
DTSTART:20260404T190000
DTEND:20260404T210000
SUMMARY:Gravemember at Urban Foxes (with DROXI)
LOCATION:Urban Foxes, Jackson, MS
DESCRIPTION:Gravemember with DROXI\nTickets: https://www.songkick.com/concerts/43080485-gravemember-at-urban-foxes
URL:https://www.songkick.com/concerts/43080485-gravemember-at-urban-foxes
END:VEVENT
END:VCALENDAR
